BEGIN:VCALENDAR
VERSION:2.0
PRODID:ias.hkust.edu.hk
BEGIN:VEVENT
UID:69e64a7052eda
DTSTART:20260428T070000Z
SEQUENCE:0
TRANSP:OPAQUE
DTEND:20260428T080000Z
LOCATION:IAS4042\, 4/F\, Lo Ka Chung Building\, Lee Shau Kee Campus\, HKUST
SUMMARY:Analytic Methods for Loop-Level Cosmological Correlators
CLASS:PUBLIC
DESCRIPTION:Analytic Methods for Loop-Level Cosmological Correlators
DTSTAMP:20260420T154656Z
END:VEVENT
END:VCALENDAR